BEGIN:VCALENDAR
VERSION:2.0
PRODID:-//Loquiz - ECPv5.3.1.1//NONSGML v1.0//EN
CALSCALE:GREGORIAN
METHOD:PUBLISH
X-WR-CALNAME:Loquiz
X-ORIGINAL-URL:https://loquiz.com
X-WR-CALDESC:Events for Loquiz
BEGIN:VTIMEZONE
TZID:Europe/Amsterdam
BEGIN:DAYLIGHT
TZOFFSETFROM:+0100
TZOFFSETTO:+0200
TZNAME:CEST
DTSTART:20210328T010000
END:DAYLIGHT
BEGIN:STANDARD
TZOFFSETFROM:+0200
TZOFFSETTO:+0100
TZNAME:CET
DTSTART:20211031T010000
END:STANDARD
END:VTIMEZONE
BEGIN:VEVENT
DTSTART;TZID=Europe/Amsterdam:20210223T160000
DTEND;TZID=Europe/Amsterdam:20210223T200000
DTSTAMP:20210116T093801
CREATED:20210108T134926Z
LAST-MODIFIED:20210115T140022Z
UID:15519-1614096000-1614110400@loquiz.com
SUMMARY:Loquiz Users Meetup (Africa\, Europe\, and the Americas)
DESCRIPTION:Intro\nEvery year\, we like to meet with loquiz users around the world\, socialize\, play\, generate new ideas\, and create new games! \nThis year is special! We go hybrid! \nAnd why is this good? Well\, we can fit more of you in this meetup. We can have the biggest Loquiz event yet! \nJoin us and experience what the Loquiz community is all about. \n  \nEvent Details\n\nParticipation Criteria:\n\nValid Loquiz Subscription (You can have more than one people from your company participating)\nAmbition for business transformation enjoying the new optimal!\n\n\nDuration: Approximately 4 hours\nEvent Platform: Airmeet\nNumber of events: 2 identical events – you can choose which of the two is more convenient for you.\n\n\n\n\n\nThe first event is scheduled for Oceania\, Asia\, Africa\, and Europe on the 21st of January\nThe second event is scheduled for Africa\, Europe\, and the Americas on the 26th of January\n\n\n\n\n\n\nCost: Free of charge\nMax number of participants per event: 80 people\n\n  \nAgenda (The agenda is the same for both events)\n\nIntro & Welcome\nLoquiz features\n\nReleased features (2020)\n\nQ&A\n\n\n\n\n\n\n\n\nWhat’s next (2021)\n\nQ&A\n\n\n\n\n\n\nBreak – networking \n\n\nLoquiz users focused session\n\n\n\n\nResilience\n\n\n\n\n\n\nSuccess stories (Chosen Loquiz users inspire us by presenting their success stories)\n\n\n\n\n\n\n\nBreak – networking\n\nSuccess stories (continued)\n\n\nBreak\n\n\n\n\nFun & Productivity session (Participants can choose 1 of the following 2 options)\n\n\n\n\n\n\n\n\nCreator pro introduction session\nPlay a proven concept game\n\n\n\n\n\n\nWrap up – Goodbye\n\n  \nSee you there… don’t miss out!
URL:https://loquiz.com/event/loquiz-users-meetup-africa-europe-and-the-americas/
CATEGORIES:Loquiz meetups
ATTACH;FMTTYPE=image/jpeg:https://loquiz.com/wpmainpage/wp-content/uploads/2021/01/Hybrid-event.jpg
ORGANIZER;CN="Petros%20Dagdilellis":MAILTO:petros@loquiz.com
END:VEVENT
BEGIN:VEVENT
DTSTART;TZID=Europe/Amsterdam:20210218T110000
DTEND;TZID=Europe/Amsterdam:20210218T170000
DTSTAMP:20210116T093801
CREATED:20210108T124127Z
LAST-MODIFIED:20210115T140148Z
UID:15501-1613646000-1613667600@loquiz.com
SUMMARY:Loquiz Users Meetup (Oceania\, Asia\, Africa\, and Europe)
DESCRIPTION:Intro\nEvery year\, we like to meet with loquiz users around the world\, socialize\, play\, generate new ideas\, and create new games! \nThis year is special! We go hybrid! \nAnd why is this good? Well\, we can fit more of you in this meetup. We can have the biggest Loquiz event yet! \nJoin us and experience what the Loquiz community is all about. \n  \nEvent Details\n\nParticipation Criteria:\n\nValid Loquiz Subscription (You can have more than one people from your company participating)\nAmbition for business transformation enjoying the new optimal!\n\n\nDuration: Approximately 4 hours\nEvent Platform: Airmeet\nNumber of events: 2 identical events – you can choose which of the two is more convenient for you.\n\n\n\n\n\nThe first event is scheduled for Oceania\, Asia\, Africa\, and Europe on the 21st of January\nThe second event is scheduled for Africa\, Europe\, and the Americas on the 26th of January\n\n\n\n\n\n\nCost: Free of charge\nMax number of participants per event: 80 people\n\n  \nAgenda (The agenda is the same for both events)\n\nIntro & Welcome\nLoquiz features\n\nReleased features (2020)\n\nQ&A\n\n\n\n\n\n\n\n\nWhat’s next (2021)\n\nQ&A\n\n\n\n\n\n\nBreak – networking \n\n\nLoquiz users focused session\n\n\n\n\nResilience\n\n\n\n\n\n\nSuccess stories (Chosen Loquiz users inspire us by presenting their success stories)\n\n\n\n\n\n\n\nBreak – networking\n\nSuccess stories (continued)\n\n\nBreak\n\n\n\n\nFun & Productivity session (Participants can choose 1 of the following 2 options)\n\n\n\n\n\n\n\n\nCreator pro introduction session\nPlay a proven concept game\n\n\n\n\n\n\nWrap up – Goodbye\n\n  \nSee you there… don’t miss out!
URL:https://loquiz.com/event/loquiz-users-meetup/
CATEGORIES:Loquiz meetups
ATTACH;FMTTYPE=image/jpeg:https://loquiz.com/wpmainpage/wp-content/uploads/2021/01/Hybrid-event.jpg
ORGANIZER;CN="Petros%20Dagdilellis":MAILTO:petros@loquiz.com
END:VEVENT
BEGIN:VEVENT
DTSTART;TZID=Europe/Amsterdam:20210128T110000
DTEND;TZID=Europe/Amsterdam:20210128T123000
DTSTAMP:20210116T093801
CREATED:20210105T124450Z
LAST-MODIFIED:20210105T124450Z
UID:15432-1611831600-1611837000@loquiz.com
SUMMARY:Plastic Mission Impossible
DESCRIPTION:Do you want to save whales from plastic? Play this game and learn how. \n\n\n\nIn 2034\, a pregnant whale was sighted dying of plastic. The exact location of the whale is not clear. Luckily\, a small piece of plastic has been recovered that traces back the location of the whale. \n\n\n\n \n\n\n\nKerosene is in short supply\, the only way to find the whale is by sailboat. It is your task to find and save the pregnant whale. \n\n\n\nSome characteristics of the game: \n\n\n\n\nCommunicate fast and collaborate with your teammates\nImprove your plastic footprint\nHave lots of fun
URL:https://loquiz.com/event/plastic-mission-impossible-3/
ATTACH;FMTTYPE=image/png:https://loquiz.com/wpmainpage/wp-content/uploads/2020/11/Plastic-Mission-Impossible.png
ORGANIZER;CN="Petros%20Dagdilellis":MAILTO:petros@loquiz.com
END:VEVENT
BEGIN:VEVENT
DTSTART;TZID=Europe/Amsterdam:20210125T110000
DTEND;TZID=Europe/Amsterdam:20210125T123000
DTSTAMP:20210116T093801
CREATED:20210105T123536Z
LAST-MODIFIED:20210105T124203Z
UID:15427-1611572400-1611577800@loquiz.com
SUMMARY:Animal Rescue - Virtual Escape Game
DESCRIPTION:An investigation that requires wit\, mental agility\, dialog\, and collaboration.  \nTo succeed the participants need to uncover clues\, analyze the information they have\, and make strategic decisions. \n\n\n\nThe Plot \n\nYou work for an organization fighting animal trafficking\, supported by police forces.\nYou have been tipped about an international criminal syndicated.\nYou must\, if possible\n\nSave the animals\nCatch red-handed the operational team of gangsters\nCollect evidence from the syndicate’s lawyer and accountant\nArrest the international Gang leader\n\n\nIt is an investigation so time is of the essence!
URL:https://loquiz.com/event/animal-rescue-virtual-escape-game/
CATEGORIES:Environmental
ATTACH;FMTTYPE=image/jpeg:https://loquiz.com/wpmainpage/wp-content/uploads/2021/01/dawn-armfield-84n7c9cLEKM-unsplash.jpg
ORGANIZER;CN="Petros%20Dagdilellis":MAILTO:petros@loquiz.com
https://loquiz.com/event/animal-rescue-virtual-escape-game/
END:VEVENT
BEGIN:VEVENT
DTSTART;TZID=Europe/Amsterdam:20210122T110000
DTEND;TZID=Europe/Amsterdam:20210122T123000
DTSTAMP:20210116T093801
CREATED:20210111T125407Z
LAST-MODIFIED:20210111T125407Z
UID:15529-1611313200-1611318600@loquiz.com
SUMMARY:Hacked game demo
DESCRIPTION:Hacked is a team building game that asks for cooperation\, problem-solving and out of the box thinking with (of course) the storyline in the ‘your company has been hacked!’-theme.  \nIt is played in teams consisting of 4-8 players and requires little explanation or guidance from the instructor.  \nCan be done with one instructor on 100 players.  \nThe usual method of running an event: set up a video meeting\, explain game\, relax\, gather everyone for prize ceremony\, exit with a smile.
URL:https://loquiz.com/event/hacked-game-demo/
ATTACH;FMTTYPE=image/png:https://loquiz.com/wpmainpage/wp-content/uploads/2021/01/Hacked_1000x563.png
ORGANIZER;CN="Petros%20Dagdilellis":MAILTO:petros@loquiz.com
END:VEVENT
BEGIN:VEVENT
DTSTART;TZID=Europe/Amsterdam:20210118T110000
DTEND;TZID=Europe/Amsterdam:20210118T123000
DTSTAMP:20210116T093801
CREATED:20210105T122143Z
LAST-MODIFIED:20210105T124231Z
UID:15420-1610967600-1610973000@loquiz.com
SUMMARY:Virtual Team Race
DESCRIPTION:A series of activities that require team participants to communicate and share information to succeed. Each challenge has a time limit. The faster the team can\nanswer them\, the more points they have. It is fun\, creative\, and highly engaging. \n\nElements of the game: \n\nStoryboard – team members have different parts of a story. They must reconstitute the logical sequence.\nObservation – a short movie sequence is shown and must be observed. To succeed\, members must get organized to focus on different details.\nCommunication – the participants must use a code to decipher a message. Each of them has a different part of the code.\nOrganization – the participants are given different images of a venue. The complexity of these challenges requires methodology and structure.\nFun & Engagement – some challenges are designed to be fun and stimulate engagement. In particular\, challenges related to music and movies.
URL:https://loquiz.com/event/virtual-team-race-2/
ATTACH;FMTTYPE=image/jpeg:https://loquiz.com/wpmainpage/wp-content/uploads/2020/11/steven-lelham-atSaEOeE8Nk-unsplash-1-scaled.jpg
ORGANIZER;CN="Petros%20Dagdilellis":MAILTO:petros@loquiz.com
https://loquiz.com/event/virtual-team-race-2/
END:VEVENT
END:VCALENDAR