BEGIN:VCALENDAR
VERSION:2.0
PRODID:-//Loquiz - ECPv5.3.1.1//NONSGML v1.0//EN
CALSCALE:GREGORIAN
METHOD:PUBLISH
X-WR-CALNAME:Loquiz
X-ORIGINAL-URL:https://loquiz.com
X-WR-CALDESC:Events for Loquiz
BEGIN:VTIMEZONE
TZID:Europe/Amsterdam
BEGIN:DAYLIGHT
TZOFFSETFROM:+0100
TZOFFSETTO:+0200
TZNAME:CEST
DTSTART:20210328T010000
END:DAYLIGHT
BEGIN:STANDARD
TZOFFSETFROM:+0200
TZOFFSETTO:+0100
TZNAME:CET
DTSTART:20211031T010000
END:STANDARD
END:VTIMEZONE
BEGIN:VEVENT
DTSTART;TZID=Europe/Amsterdam:20210118T110000
DTEND;TZID=Europe/Amsterdam:20210118T123000
DTSTAMP:20210116T104756
CREATED:20210105T122143Z
LAST-MODIFIED:20210105T124231Z
UID:15420-1610967600-1610973000@loquiz.com
SUMMARY:Virtual Team Race
DESCRIPTION:A series of activities that require team participants to communicate and share information to succeed. Each challenge has a time limit. The faster the team can\nanswer them\, the more points they have. It is fun\, creative\, and highly engaging. \n\nElements of the game: \n\nStoryboard – team members have different parts of a story. They must reconstitute the logical sequence.\nObservation – a short movie sequence is shown and must be observed. To succeed\, members must get organized to focus on different details.\nCommunication – the participants must use a code to decipher a message. Each of them has a different part of the code.\nOrganization – the participants are given different images of a venue. The complexity of these challenges requires methodology and structure.\nFun & Engagement – some challenges are designed to be fun and stimulate engagement. In particular\, challenges related to music and movies.
URL:https://loquiz.com/event/virtual-team-race-2/
ATTACH;FMTTYPE=image/jpeg:https://loquiz.com/wpmainpage/wp-content/uploads/2020/11/steven-lelham-atSaEOeE8Nk-unsplash-1-scaled.jpg
ORGANIZER;CN="Petros%20Dagdilellis":MAILTO:petros@loquiz.com
https://loquiz.com/event/virtual-team-race-2/
END:VEVENT
END:VCALENDAR