BEGIN:VCALENDAR
VERSION:2.0
PRODID:-//Loquiz - ECPv5.3.1.1//NONSGML v1.0//EN
CALSCALE:GREGORIAN
METHOD:PUBLISH
X-WR-CALNAME:Loquiz
X-ORIGINAL-URL:https://loquiz.com
X-WR-CALDESC:Events for Loquiz
BEGIN:VTIMEZONE
TZID:Europe/Amsterdam
BEGIN:DAYLIGHT
TZOFFSETFROM:+0100
TZOFFSETTO:+0200
TZNAME:CEST
DTSTART:20200329T010000
END:DAYLIGHT
BEGIN:STANDARD
TZOFFSETFROM:+0200
TZOFFSETTO:+0100
TZNAME:CET
DTSTART:20201025T010000
END:STANDARD
END:VTIMEZONE
BEGIN:VEVENT
DTSTART;TZID=Europe/Amsterdam:20201210T110000
DTEND;TZID=Europe/Amsterdam:20201210T123000
DTSTAMP:20210116T112149
CREATED:20201124T120818Z
LAST-MODIFIED:20201124T141944Z
UID:14480-1607598000-1607603400@loquiz.com
SUMMARY:Plastic Mission Impossible
DESCRIPTION:Do you want to save whales from plastic? Play this game and learn how. \n\n\n\nIn 2034\, a pregnant whale was sighted dying of plastic. The exact location of the whale is not clear. Luckily\, a small piece of plastic has been recovered that traces back the location of the whale. \n\n\n\n \n\n\n\nKerosene is in short supply\, the only way to find the whale is by sailboat. It is your task to find and save the pregnant whale. \n\n\n\nSome characteristics of the game: \n\n\n\n\nCommunicate fast and collaborate with your teammates\nImprove your plastic footprint\nHave lots of fun\n\n\n\n\n\n\n\n\n\n\n\n\n\n\n\n\n 
URL:https://loquiz.com/event/plastic-mission-impossible-2/
CATEGORIES:Environmental
ATTACH;FMTTYPE=image/png:https://loquiz.com/wpmainpage/wp-content/uploads/2020/11/Plastic-Mission-Impossible.png
ORGANIZER;CN="Petros%20Dagdilellis":MAILTO:petros@loquiz.com
https://loquiz.com/event/plastic-mission-impossible-2/
END:VEVENT
END:VCALENDAR