BEGIN:VCALENDAR
VERSION:2.0
PRODID:-//Loquiz - ECPv5.3.1.1//NONSGML v1.0//EN
CALSCALE:GREGORIAN
METHOD:PUBLISH
X-WR-CALNAME:Loquiz
X-ORIGINAL-URL:https://loquiz.com
X-WR-CALDESC:Events for Loquiz
BEGIN:VTIMEZONE
TZID:Europe/Amsterdam
BEGIN:DAYLIGHT
TZOFFSETFROM:+0100
TZOFFSETTO:+0200
TZNAME:CEST
DTSTART:20200329T010000
END:DAYLIGHT
BEGIN:STANDARD
TZOFFSETFROM:+0200
TZOFFSETTO:+0100
TZNAME:CET
DTSTART:20201025T010000
END:STANDARD
END:VTIMEZONE
BEGIN:VEVENT
DTSTART;TZID=Europe/Amsterdam:20201216T110000
DTEND;TZID=Europe/Amsterdam:20201216T123000
DTSTAMP:20210116T112150
CREATED:20201207T113157Z
LAST-MODIFIED:20201207T113157Z
UID:14793-1608116400-1608121800@loquiz.com
SUMMARY:Le Jeu du Virus (The Virus)
DESCRIPTION:We’re inviting you to join the French version of the Virus! NB! The event is held in French. \n  \nBienvenue au jeu du virus !Le virus n’est pas ce que vous pensez ! \nIl est présent partout ; au sein de chaque équipe\, de chaque interaction sociale\, de chaque contact humain. \nIl se cache très bien derrière l’ambition personnelle\, les objectifs\, l’esprit de compétition et la routine au travail. \nCe virus est avec nous depuis que les hommes et les femmes des cavernes ont choisi de vivre en communauté. \nPouvez-vous l’éradiquer ? Seulement si vous vous faites confiance et aux autres ! \nLe jeu est conçu comme une courte séance de gamification. Il est adapté pour des sessions théoriques portées sur un des sujets suivants : \n\nConfiance\nCommunication d’équipe\nCollaboration interdépartementale\nHiérarchisation des objectifs\nDélégation\nGestion de projet\n\nIl est recommandé d’affirmer au départ que sans les points ci-dessus\, il n’est pas possible de travailler en collaboration\, et de réussir en tant qu’organisation. \nLe jeu du Virus peut être joué à plusieurs reprises. Des séances de débriefing peuvent se faire après chaque session pour mettre en valeur les améliorations et pour rappeler le contenu des sessions théoriques.
URL:https://loquiz.com/event/le-jeu-du-virus-the-virus/
ATTACH;FMTTYPE=image/jpeg:https://loquiz.com/wpmainpage/wp-content/uploads/2020/11/The-Virus.jpg
ORGANIZER;CN="Petros%20Dagdilellis":MAILTO:petros@loquiz.com
END:VEVENT
END:VCALENDAR