BEGIN:VCALENDAR
VERSION:2.0
PRODID:-//Loquiz - ECPv5.3.1.1//NONSGML v1.0//EN
CALSCALE:GREGORIAN
METHOD:PUBLISH
X-WR-CALNAME:Loquiz
X-ORIGINAL-URL:https://loquiz.com
X-WR-CALDESC:Events for Loquiz
BEGIN:VTIMEZONE
TZID:Europe/Amsterdam
BEGIN:DAYLIGHT
TZOFFSETFROM:+0100
TZOFFSETTO:+0200
TZNAME:CEST
DTSTART:20200329T010000
END:DAYLIGHT
BEGIN:STANDARD
TZOFFSETFROM:+0200
TZOFFSETTO:+0100
TZNAME:CET
DTSTART:20201025T010000
END:STANDARD
END:VTIMEZONE
BEGIN:VEVENT
DTSTART;TZID=Europe/Amsterdam:20201123T100000
DTEND;TZID=Europe/Amsterdam:20201123T113000
DTSTAMP:20210116T112143
CREATED:20201116T150452Z
LAST-MODIFIED:20201118T070752Z
UID:14265-1606125600-1606131000@loquiz.com
SUMMARY:Catch the Spy
DESCRIPTION:You work for Nanobot Inc. a promising biotech \n\n\n\nYou are accused of having stolen a prototype and being a spy for a competitor. \n\n\n\n \n\n\n\nTo prove your innocence\, you must find the real culprit and recover the prototype. \n\n\n\nAre you ready to find the real Spy and recover the stolen prototype? Are you able to restore your honor? Are you Up to the Challenge \n\n\n\nSome characteristics of the game:  \n\n\n\n\nTeam building experience based on a virtual escape concept.\nSharpen your creative problem solving\, teamwork and communication skills. \n\n\n\n\n\n\n\n\n\n\n\n\n\n\n\n\n 
URL:https://loquiz.com/event/catch-the-spy/
ATTACH;FMTTYPE=image/jpeg:https://loquiz.com/wpmainpage/wp-content/uploads/2020/11/Catch-the-Spy-scaled.jpg
https://loquiz.com/event/catch-the-spy/
END:VEVENT
END:VCALENDAR