BEGIN:VCALENDAR
VERSION:2.0
PRODID:-//Loquiz - ECPv5.3.1.1//NONSGML v1.0//EN
CALSCALE:GREGORIAN
METHOD:PUBLISH
X-WR-CALNAME:Loquiz
X-ORIGINAL-URL:https://loquiz.com
X-WR-CALDESC:Events for Loquiz
BEGIN:VTIMEZONE
TZID:Europe/Amsterdam
BEGIN:DAYLIGHT
TZOFFSETFROM:+0100
TZOFFSETTO:+0200
TZNAME:CEST
DTSTART:20200329T010000
END:DAYLIGHT
BEGIN:STANDARD
TZOFFSETFROM:+0200
TZOFFSETTO:+0100
TZNAME:CET
DTSTART:20201025T010000
END:STANDARD
END:VTIMEZONE
BEGIN:VEVENT
DTSTART;TZID=Europe/Amsterdam:20201217T110000
DTEND;TZID=Europe/Amsterdam:20201217T123000
DTSTAMP:20210116T112153
CREATED:20201124T125554Z
LAST-MODIFIED:20201124T142025Z
UID:14498-1608202800-1608208200@loquiz.com
SUMMARY:Battle Bingo: Home Edition
DESCRIPTION:Welcome to Battle Bingo Home Edition! You are about to participate in a smart and quick game show to win prizes by solving fantastic visual puzzles. \nThe game’s idea is to have a lot of fun like in-game shows while playing from multiple remote locations. The game fits various group types – companies\, families\, individual users\, small teams\, 5-1000 participants at the same time.  It can also be played by a group indoor ‘the old fashion way.’ \n\nAdvantages for Battle Bingo Home edition: \n\nvery easy to set and play\ncan be played online or in closed quarters (via screen and projector)\ndoesn’t require translation\nvery flexible and adjustable (simply change the questions in the PPT and you are ready)\nawesome riddles ready to use\neveryone is playing on the same screen – NO break-up rooms\nfits families\, teenagers\, Hi-Tech\, Low-Tech\, and everyone else
URL:https://loquiz.com/event/battle-bingo-home-edition/
ATTACH;FMTTYPE=image/png:https://loquiz.com/wpmainpage/wp-content/uploads/2020/10/bingo_home.png
ORGANIZER;CN="Hedi%20Kr%C3%B6nstr%C3%B6m":MAILTO:hedi@loquiz.com
https://loquiz.com/event/battle-bingo-home-edition/
END:VEVENT
END:VCALENDAR